BEGIN:VCALENDAR
VERSION:2.0
PRODID:-//EventsIDK//Event Portal//EN
CALSCALE:GREGORIAN
METHOD:PUBLISH
BEGIN:VEVENT
UID:1817-0-1776672653943@eventsidk.dk
SUMMARY:Gudstjeneste + kirkekaffe
DTSTAMP:20260420T081053Z
DTSTART:20260531T073000Z
DTEND:20260531T083000Z
DESCRIPTION:VIGTIGT: Event-info er hentet mandag den 20. april 2026 kl. 08.
	10. Hold øje med evt. opdateringer her: https://glrye.dk/det-sker/1817-gud
	stjeneste-kirkekaffe/\n\n\nGudstjeneste ved Irene Thyrri\n\nEfter gudstjen
	esten er der kirkekaffe
URL:https://glrye.dk/det-sker/1817-gudstjeneste-kirkekaffe/
LOCATION:Gl. Rye Kirke\, Kirkebakken 3\, 8680 Gl. Rye
STATUS:CONFIRMED
ORGANIZER;CN=Gl. Rye Kirke:MAILTO:detsker@glrye.dk
END:VEVENT
END:VCALENDAR
