BEGIN:VCALENDAR
VERSION:2.0
PRODID:-//EventsIDK//Event Portal//EN
CALSCALE:GREGORIAN
METHOD:PUBLISH
BEGIN:VEVENT
UID:1804-0-1776673174293@eventsidk.dk
SUMMARY:Gudstjeneste med børnekoret
DTSTAMP:20260420T081934Z
DTSTART:20260426T090000Z
DTEND:20260426T100000Z
DESCRIPTION:VIGTIGT: Event-info er hentet mandag den 20. april 2026 kl. 08.
	19. Hold øje med evt. opdateringer her: https://glrye.dk/det-sker/1804-gud
	stjeneste-med-bornekoret/\n\n\nBørnekoret deltager ved søndagens gudstjene
	ste.\n\nPræst: Iben Johanne Thomsen
URL:https://glrye.dk/det-sker/1804-gudstjeneste-med-bornekoret/
LOCATION:Gl. Rye Kirke\, Kirkebakken 3\, 8680 Gl. Rye
STATUS:CONFIRMED
ORGANIZER;CN=Gl. Rye Kirke:MAILTO:detsker@glrye.dk
END:VEVENT
END:VCALENDAR
